BEGIN:VCALENDAR
VERSION:2.0
PRODID:icalendar-ruby
CALSCALE:GREGORIAN
METHOD:PUBLISH
BEGIN:VEVENT
DTSTAMP:20260419T132800Z
UID:19-212681@livinghopegmc.org
DTSTART:20260514T000000Z
DTEND:20260514T010000Z
CLASS:PUBLIC
CREATED:20260415T090022
DESCRIPTION: \n\n\nBaccalaureate is an anual religious service to celebrat
 e and bless the graduating class of Lisbon High School. The service is hel
 d at Lisbon High School Auditorium and is hosted by Living Hope Church. A 
 cake reception will follow the service.\n\n\nAll are welcome!\n\n
LAST-MODIFIED:20260415T090022
LOCATION:Lisbon High School Auditorium
SUMMARY:Baccalaureate
URL;VALUE=URI:https://www.livinghopegmc.org/events/baccalaureate/2026-05-13
ATTACH;FILENAME=Baccalaureate-1500-x-784-px.png;FMTTYPE=image/png:https://d
 q5pwpg1q8ru0.cloudfront.net/2026/04/15/14/00/22/ef9b1994-6d33-4f63-bd10-2e
 8583628470/Baccalaureate-1500-x-784-px.png
END:VEVENT
END:VCALENDAR
