BEGIN:VCALENDAR
VERSION:2.0
PRODID:icalendar-ruby
CALSCALE:GREGORIAN
METHOD:PUBLISH
BEGIN:VEVENT
DTSTAMP:20260419T135039Z
UID:18-212680@livinghopegmc.org
DTSTART:20260426T220000Z
DTEND:20260427T000000Z
CLASS:PUBLIC
CREATED:20260415T084511
DESCRIPTION:Reading the bible out loud as a group was a normal occurance in
  the early church. It was powerful for them. It still is for us. Join us a
 s we come together to read this historical account of the people of Israel
 \, the book of Numbers.
LAST-MODIFIED:20260415T084511
LOCATION:Living Hope
SUMMARY:Corporate Bible Reading
URL;VALUE=URI:https://www.livinghopegmc.org/events/corporate-bible-reading/
 2026-04-26
ATTACH;FILENAME=Reading-Numbers.png;FMTTYPE=image/png:https://dq5pwpg1q8ru0
 .cloudfront.net/2026/04/15/13/45/11/673ee23b-bf2e-4911-8245-76f999eccbeb/R
 eading-Numbers.png
END:VEVENT
END:VCALENDAR
