BEGIN:VCALENDAR
VERSION:2.0
PRODID:icalendar-ruby
CALSCALE:GREGORIAN
METHOD:PUBLISH
BEGIN:VEVENT
DTSTAMP:20260420T123806Z
UID:20-214767@livinghopegmc.org
DTSTART:20260809T144500Z
DTEND:20260809T160000Z
CLASS:PUBLIC
CREATED:20260420T072357
DESCRIPTION:Gathering together to focus our hearts and minds on God through
  scripture\, prayer\, and song feeds our souls and lifts them above the mu
 ndane. Join us\, all are welcome. 
LAST-MODIFIED:20260420T072357
LOCATION:Living Hope
SUMMARY:Sunday Worship Gathering
URL;VALUE=URI:https://www.livinghopegmc.org/events/sunday-worship-gathering
 /2026-08-09
ATTACH;FILENAME=Sunday-Worship.png;FMTTYPE=image/png:https://dq5pwpg1q8ru0.
 cloudfront.net/2026/04/15/14/16/36/b5cd7329-6be1-4731-b3bd-93b34ac4f4a2/Su
 nday-Worship.png
END:VEVENT
END:VCALENDAR
